BEGIN:VCALENDAR
PRODID:-//eventHandler for Dotclear//eventHandler 1.0-alpha7//EN
VERSION:2.0
METHOD:PUBLISH
CALSCALE:GREGORIAN
X-DC-BLOGNAME:Autun Morvan Écologie
X-DC-FOLDER:2026/03/26/conference-debat-de-la-precarite-alimentaire-a-
 la-securite-sociale-de-l-alimentation
BEGIN:VEVENT
TRANSP:OPAQUE
SEQUENCE:0
PRIORITY:5
CLASS:PUBLIC
SUMMARY;CHARSET=UTF-8:Conférence débat "De la précarité alimentair
 e à la Sécurité Sociale de l'Alimentation"
URL:https://www.autunmorvanecologie.org/day/2026/03/26/conference-deba
 t-de-la-precarite-alimentaire-a-la-securite-sociale-de-l-alimentation
UID:544
DTSTAMP;TZID=Europe/Paris:20260326T205143
DTSTART;TZID=Europe/Paris:20260327T183000
DTEND;TZID=Europe/Paris:20260327T203000
DESCRIPTION;CHARSET=UTF-8:Conférence débat "De la précarité alimen
 taire à la Sécurité Sociale de l'Alimentation" - Vendredi 27 mars 2
 026, 18h30, Eduen - Autun, Conférence Débat en présence de Bénédi
 cte Bonzi, anthropologue, spécialiste des questions de précarité al
 imentaire et engagée sur des projets de Sécurité sociale de l'alime
 ntation. - https://www.autunmorvanecologie.org/day/2026/03/26/conferen
 ce-debat-de-la-precarite-alimentaire-a-la-securite-sociale-de-l-alimen
 tation
CATEGORIES;CHARSET=UTF-8:Actus
END:VEVENT
END:VCALENDAR
