BEGIN:VCALENDAR
PRODID:-//eventHandler for Dotclear//eventHandler 1.0-alpha7//EN
VERSION:2.0
METHOD:PUBLISH
CALSCALE:GREGORIAN
X-DC-BLOGNAME:Autun Morvan Écologie
X-DC-FOLDER:2021/04/06/Fete-de-la-nature-2021-:-labellisez-vos-actions
 -
BEGIN:VEVENT
TRANSP:OPAQUE
SEQUENCE:0
PRIORITY:5
CLASS:PUBLIC
SUMMARY;CHARSET=UTF-8:Fête de la nature 2021 : labellisez vos actions
 !
URL:https://www.autunmorvanecologie.org/day/2021/04/06/Fete-de-la-natu
 re-2021-%3A-labellisez-vos-actions-
UID:267
DTSTAMP;TZID=Europe/Paris:20210406T173834
DTSTART;TZID=Europe/Paris:20210519T080000
DTEND;TZID=Europe/Paris:20210523T233000
DESCRIPTION;CHARSET=UTF-8:Fête de la nature 2021 : labellisez vos act
 ions! - Les inscriptions pour La Fête de la Nature sont ouvertes ! El
 le se déroulera du 19 au 23 mai 2021. - https://www.autunmorvanecolo
 gie.org/day/2021/04/06/Fete-de-la-nature-2021-%3A-labellisez-vos-actio
 ns-
END:VEVENT
END:VCALENDAR
